BEGIN:VCALENDAR
VERSION:2.0
PRODID:-//ChamberMaster//Event Calendar 2.0//EN
METHOD:PUBLISH
X-PUBLISHED-TTL:P3D
REFRESH-INTERVAL:P3D
CALSCALE:GREGORIAN
BEGIN:VEVENT
DTSTART:20110525T003000Z
DTEND:20110531T035500Z
X-MICROSOFT-CDO-ALLDAYEVENT:FALSE
SUMMARY:Miami Heat games at The Ibis Lounge
DESCRIPTION:Come watch all Miami Heat Eastern Conference finals games\n\n$2.50 Polar Beer
X-ALT-DESC;FMTTYPE=text/html:Come watch all Miami Heat Eastern Conference finals games<br />\n$2.50 Polar Beer
LOCATION:The Ibis Lounge 200 Crandon Blvd #101 Key Biscayne\, Fl 33149
UID:e.330.3391
SEQUENCE:3
DTSTAMP:20260421T174236Z
URL:https://business.keybiscaynechamber.org/events/details/miami-heat-games-at-the-ibis-lounge-05-24-2011-3391
END:VEVENT

END:VCALENDAR
