BEGIN:VCALENDAR
VERSION:2.0
PRODID:-//ChamberMaster//Event Calendar 2.0//EN
METHOD:PUBLISH
X-PUBLISHED-TTL:P3D
REFRESH-INTERVAL:P3D
CALSCALE:GREGORIAN
BEGIN:VEVENT
DTSTART:20120509T220000Z
DTEND:20120509T230000Z
X-MICROSOFT-CDO-ALLDAYEVENT:FALSE
SUMMARY:Miami Dade Property Appraiser\, Pedro Garcia will Talk about your Taxes
DESCRIPTION:Miami's first elected Property Appraiser\, Pedro Garcia  will talk to you regarding the following talking points and answer questions from the audience:\n\n\n\n          Property Taxes and the Marlins Stadium Parking Garage\n\n          The PA's efforts to combat exemption fraud\n\n          The changes at the Value Adjustment Board\n\n          The latest trends in the residential real estate market\n\n       Limiting value increase for seniors - The PA's efforts to promote legislative             action which would provide additional property tax relief for low income                   seniors.
X-ALT-DESC;FMTTYPE=text/html:Miami&#39\;s first elected Property Appraiser\, Pedro Garcia&nbsp\; will talk to you regarding the following talking points and answer questions from the audience:<br />\n<br />\n<span style="font-family:symbol\;">&middot\;&nbsp\;&nbsp\;&nbsp\;&nbsp\;&nbsp\;&nbsp\;&nbsp\;&nbsp\; </span>Property Taxes and the Marlins Stadium Parking Garage<br />\n<span style="font-family:symbol\;">&middot\;&nbsp\;&nbsp\;&nbsp\;&nbsp\;&nbsp\;&nbsp\;&nbsp\;&nbsp\; </span>The PA&rsquo\;s efforts to combat exemption fraud<br />\n<span style="font-family:symbol\;">&middot\;&nbsp\;&nbsp\;&nbsp\;&nbsp\;&nbsp\;&nbsp\;&nbsp\;&nbsp\; </span>The changes at the Value Adjustment Board<br />\n<span style="font-family:symbol\;">&middot\;&nbsp\;&nbsp\;&nbsp\;&nbsp\;&nbsp\;&nbsp\;&nbsp\;&nbsp\; </span>The latest trends in the residential real estate market<br />\n<span style="font-family:symbol\;"><span style="font-size:12.0pt\;">&middot\;&nbsp\;&nbsp\;&nbsp\;&nbsp\;&nbsp\; </span></span><span style="font-size: 12px\;"><span style="font-family: arial\,sans-serif\;">Limiting value</span><span style="font-family: arial\,sans-serif\;"> increase for seniors - The PA&rsquo\;s efforts to promote legislative </span></span>&nbsp\;&nbsp\;&nbsp\; &nbsp\;&nbsp\;&nbsp\; &nbsp\;&nbsp\;&nbsp\; <span style="font-size: 12px\;"><span style="font-family: arial\,sans-serif\;">action which would provide additional property tax relief for low income</span></span>&nbsp\;&nbsp\; &nbsp\;&nbsp\;&nbsp\; &nbsp\;&nbsp\;&nbsp\; &nbsp\;&nbsp\;&nbsp\; &nbsp\;&nbsp\;&nbsp\; <span style="font-size:12px\;"><span style="font-family: arial\,sans-serif\;">seniors. </span></span>
LOCATION:Village Council Chambers 560 Crandon Blvd. Entrance on Village Green Way
UID:e.330.3694
SEQUENCE:3
DTSTAMP:20260421T015515Z
URL:https://business.keybiscaynechamber.org/events/details/miami-dade-property-appraiser-pedro-garcia-will-talk-about-your-taxes-05-09-2012-3694
END:VEVENT

END:VCALENDAR
