BEGIN:VCALENDAR
VERSION:2.0
PRODID:-//ChamberMaster//Event Calendar 2.0//EN
METHOD:PUBLISH
X-PUBLISHED-TTL:P3D
REFRESH-INTERVAL:P3D
CALSCALE:GREGORIAN
BEGIN:VEVENT
DTSTART:20120623T150000Z
DTEND:20120623T180000Z
X-MICROSOFT-CDO-ALLDAYEVENT:FALSE
SUMMARY:Mercy Hospital 1st HCA Block Party
DESCRIPTION:Have a great day of fun and learning.  Something for the whole family.\n\nMusic and food trucks abound.\n\n\n\nRSVP 305-285-2929 - space is limited.
X-ALT-DESC;FMTTYPE=text/html:Have a great day of fun and learning.&nbsp\; Something for the whole family.<br />\nMusic and food trucks abound.<br />\n<br />\n<span style="color: #ff00cc">RSVP 305-285-2929 - space is limited.</span><br />\n<br />\n
LOCATION:The new park by the Bay at Mercy Hospital
UID:e.330.3735
SEQUENCE:3
DTSTAMP:20260420T222938Z
URL:https://business.keybiscaynechamber.org/events/details/mercy-hospital-1st-hca-block-party-06-23-2012-3735
END:VEVENT

END:VCALENDAR
