BEGIN:VCALENDAR
VERSION:2.0
PRODID:-//ChamberMaster//Event Calendar 2.0//EN
METHOD:PUBLISH
X-PUBLISHED-TTL:P3D
REFRESH-INTERVAL:P3D
CALSCALE:GREGORIAN
BEGIN:VEVENT
DTSTART;VALUE=DATE:20110530
DTEND;VALUE=DATE:20110531
TRANSP:TRANSPARENT
X-MICROSOFT-CDO-ALLDAYEVENT:TRUE
SUMMARY:Memorial Day
DESCRIPTION:The Chamber office will be closed on Monday May 30 in observance of Memorial Day. The office will reopen on Tuesday May 31.\n\nPlease note the Visitors Center is open 24/7
X-ALT-DESC;FMTTYPE=text/html:<span style="font-family: arial"><span style="font-size: 12px"><strong><span style="font-size: 22pt"><span style="font-family: calibri">The Chamber office will be closed on Monday May 30 in observance of Memorial Day. The office will reopen on Tuesday May 31.</span></span></strong><br />\n<strong><em><span style="font-size: 16pt"><span style="font-family: calibri\, sans-serif"><span style="font-family: calibri">Please note the Visitors Center is open 24/7</span></span></span></em></strong></span></span>
LOCATION:
UID:e.330.3409
SEQUENCE:3
DTSTAMP:20260421T172151Z
URL:https://business.keybiscaynechamber.org/events/details/memorial-day-05-30-2011-3409
END:VEVENT

END:VCALENDAR
