BEGIN:VCALENDAR
VERSION:2.0
PRODID:-//ChamberMaster//Event Calendar 2.0//EN
METHOD:PUBLISH
X-PUBLISHED-TTL:P3D
REFRESH-INTERVAL:P3D
CALSCALE:GREGORIAN
BEGIN:VEVENT
DTSTART:20120823T213000Z
DTEND:20120823T233000Z
X-MICROSOFT-CDO-ALLDAYEVENT:FALSE
SUMMARY:Membership Networking Cocktail
DESCRIPTION:Join the Key Biscayne Chamber of Commerce for cocktails after work.  Meet fellow members for an informal networking opportunity.  Enjoy 2 for 1 drinks on all liquor\, beer & wine
X-ALT-DESC;FMTTYPE=text/html:Join the Key Biscayne Chamber of Commerce for cocktails after work.&nbsp\; Meet fellow members for an informal networking opportunity.&nbsp\; Enjoy 2 for 1 drinks on all liquor\, beer &amp\; wine&nbsp\;&nbsp\;
LOCATION:Hotel Urbano at Brickell - Poolside 2500 Brickell Avenue Miami\, FL 33129 Valet parking - $4.00
UID:e.330.3753
SEQUENCE:3
DTSTAMP:20260420T210706Z
URL:https://business.keybiscaynechamber.org/events/details/membership-networking-cocktail-08-23-2012-3753
END:VEVENT

END:VCALENDAR
