BEGIN:VCALENDAR
VERSION:2.0
PRODID:-//ChamberMaster//Event Calendar 2.0//EN
METHOD:PUBLISH
X-PUBLISHED-TTL:P3D
REFRESH-INTERVAL:P3D
CALSCALE:GREGORIAN
BEGIN:VEVENT
DTSTART;VALUE=DATE:20120726
DTEND;VALUE=DATE:20120727
TRANSP:TRANSPARENT
X-MICROSOFT-CDO-ALLDAYEVENT:TRUE
SUMMARY:Membership Luncheon @ Origins Asian Bistro
DESCRIPTION:Join the Chamber of Commerce for a Membership Luncheon at Origins Asian Bistro.\n\nA great way to meet your fellow members in an informal setting\n\n\n\nOnly cost is the price of your meal.\n\n\n\nFor more info call Betty Portuondo at (305) 469-7147
X-ALT-DESC;FMTTYPE=text/html:Join the Chamber of Commerce for a Membership Luncheon at Origins Asian Bistro.<br />\nA great way to meet your fellow members in an informal setting<br />\n<br />\nOnly cost is the price of your meal.<br />\n<br />\nFor more info call Betty Portuondo at (305) 469-7147<br />\n<span _fck_bookmark="1" style="display: none">&nbsp\;</span>
LOCATION:200 Crandon Blvd Key Biscayne\, FL
UID:e.330.3744
SEQUENCE:3
DTSTAMP:20260420T211358Z
URL:https://business.keybiscaynechamber.org/events/details/membership-luncheon-origins-asian-bistro-07-26-2012-3744
END:VEVENT

END:VCALENDAR
