BEGIN:VCALENDAR
VERSION:2.0
PRODID:-//ChamberMaster//Event Calendar 2.0//EN
METHOD:PUBLISH
X-PUBLISHED-TTL:P3D
REFRESH-INTERVAL:P3D
CALSCALE:GREGORIAN
BEGIN:VEVENT
DTSTART:20121130T010000Z
DTEND:20121130T020000Z
X-MICROSOFT-CDO-ALLDAYEVENT:FALSE
SUMMARY:Membership Breakfast
DESCRIPTION:Monthly Membership Business card exchange
X-ALT-DESC;FMTTYPE=text/html:Monthly Membership Business card exchange
LOCATION:Mount Sinai Key Biscayne 200 Crandon Blvd #300 Key Biscayne\, FL 33149
UID:e.330.3796
SEQUENCE:3
DTSTAMP:20260420T144935Z
URL:https://business.keybiscaynechamber.org/events/details/membership-breakfast-11-29-2012-3796
END:VEVENT

END:VCALENDAR
