BEGIN:VCALENDAR
VERSION:2.0
PRODID:-//ChamberMaster//Event Calendar 2.0//EN
METHOD:PUBLISH
X-PUBLISHED-TTL:P3D
REFRESH-INTERVAL:P3D
CALSCALE:GREGORIAN
BEGIN:VEVENT
DTSTART:20120628T120000Z
DTEND:20120628T130000Z
X-MICROSOFT-CDO-ALLDAYEVENT:FALSE
SUMMARY:Membership Breakfast
DESCRIPTION:Key Biscayne Chamber of Commerce Membership Breakfast\n\n	 \n\n	A great and informal way for members to get together and share ideas.  RSVP to info@keybiscaynechamber.org or call 305-361-5207\n\n	\n\n	Graciously hosted by U S Century Bank\n\n	Arturo Fundora & Conchita Caserta
X-ALT-DESC;FMTTYPE=text/html:<p style="text-align: center">\n	<span style="color: #0000ff"><em><strong><span style="font-size: 16px"><span style="font-family: verdana">Key Biscayne Chamber of Commerce Membership Breakfast</span></span></strong></em></span><br />\n	&nbsp\;</p>\n<p>\n	<span style="color: #0000ff">A great and informal way for members to get together and share ideas.&nbsp\; RSVP to info@keybiscaynechamber.org or call 305-361-5207<br />\n	<br />\n	<span style="color: #0000ff">Graciously hosted by U S Century Bank<br />\n	Arturo Fundora &amp\; Conchita Caserta<span _fck_bookmark="1" style="display: none">&nbsp\;</span></span></span><br />\n	&nbsp\;</p>\n<p style="text-align: center">\n	<br />\n	&nbsp\;</p>\n
LOCATION:U S Century Bank 260 Crandon Blvd #51 Key Biscayne\, FL 33149
UID:e.330.3729
SEQUENCE:3
DTSTAMP:20260420T222352Z
URL:https://business.keybiscaynechamber.org/events/details/membership-breakfast-06-28-2012-3729
END:VEVENT

END:VCALENDAR
