BEGIN:VCALENDAR
VERSION:2.0
PRODID:-//ChamberMaster//Event Calendar 2.0//EN
METHOD:PUBLISH
X-PUBLISHED-TTL:P3D
REFRESH-INTERVAL:P3D
CALSCALE:GREGORIAN
BEGIN:VEVENT
DTSTART:20111202T230000Z
DTEND:20111203T010000Z
X-MICROSOFT-CDO-ALLDAYEVENT:FALSE
SUMMARY:Meet The Village Manager Candidates
DESCRIPTION:You Are Cordially Invited to a\n\n	Reception for the\n\n	Village Manager Candidates\n\n	hosted by\n\n	Mayor and Members of the Village Council\n\n	of the Village of Key Biscayne\n\n	\n\n	Friday December 2\, 2011\n\n	6:00 - 8:00 p.m.\n\n	Turtle Fountain Courtyard-Village Hall\n\n	88 West McIntyre St.\n\n	Key Biscayne\, Fl\n\n	\n\n	Complimentary Hors D'oeuvres and Beverages
X-ALT-DESC;FMTTYPE=text/html:<p style="text-align: center">\n	You Are Cordially Invited to a<br />\n	Reception for the<br />\n	Village Manager Candidates<br />\n	hosted by<br />\n	Mayor and Members of the Village Council<br />\n	of the Village of Key Biscayne<br />\n	<br />\n	Friday December 2\, 2011<br />\n	6:00 - 8:00 p.m.<br />\n	Turtle Fountain Courtyard-Village Hall<br />\n	88 West McIntyre St.<br />\n	Key Biscayne\, Fl<br />\n	<br />\n	Complimentary Hors D&#39\;oeuvres and Beverages</p>\n
LOCATION:88 McIntyre St Key Biscayne\, FL 33149
UID:e.330.3547
SEQUENCE:3
DTSTAMP:20260421T090634Z
URL:https://business.keybiscaynechamber.org/events/details/meet-the-village-manager-candidates-12-02-2011-3547
END:VEVENT

END:VCALENDAR
