BEGIN:VCALENDAR
VERSION:2.0
PRODID:-//ChamberMaster//Event Calendar 2.0//EN
METHOD:PUBLISH
X-PUBLISHED-TTL:P3D
REFRESH-INTERVAL:P3D
CALSCALE:GREGORIAN
BEGIN:VEVENT
DTSTART:20121025T213000Z
DTEND:20121025T233000Z
X-MICROSOFT-CDO-ALLDAYEVENT:FALSE
SUMMARY:Meet the Candidates
DESCRIPTION:The candidates for Village Council will be present to discuss any issues and/or questions you may have.\n\nEveryone is invited.
X-ALT-DESC;FMTTYPE=text/html:The candidates for Village Council will be&nbsp\;present to discuss any issues and/or questions you may have.<br />\nEveryone is invited.
LOCATION:Exit One Restaurant The Towers 1111 Crandon Blvd Key Biscayne\, FL 33149
UID:e.330.3762
SEQUENCE:3
DTSTAMP:20260420T160115Z
URL:https://business.keybiscaynechamber.org/events/details/meet-the-candidates-10-25-2012-3762
END:VEVENT

END:VCALENDAR
