BEGIN:VCALENDAR
VERSION:2.0
PRODID:-//ChamberMaster//Event Calendar 2.0//EN
METHOD:PUBLISH
X-PUBLISHED-TTL:P3D
REFRESH-INTERVAL:P3D
CALSCALE:GREGORIAN
BEGIN:VEVENT
DTSTART:20130929T200000Z
DTEND:20130929T220000Z
X-MICROSOFT-CDO-ALLDAYEVENT:FALSE
SUMMARY:Meet the Artist Wine Reception-Jacqueline Roch
DESCRIPTION:Crandon Nature Center will be hosting a reception for artist Jacqueline Roch and her beautiful art.  Dates of exhibit are September 21 and October 30\, 2013.  Meet the Artist Wine Reception on Sunday\, September 29\, 4-6 pm\n\n	For more information go to www.influencecomm.com
X-ALT-DESC;FMTTYPE=text/html:<div style="color: gray">\n	<span style="color: #000000"><span style="font-size: 10pt"><span style="font-family: trebuchet ms\, sans-serif"><span style="font-family: trebuchet ms">Crandon Nature Center will be hosting a reception for artist Jacqueline Roch and her beautiful art.&nbsp\; Dates of exhibit are September 21 and October 30\, 2013.&nbsp\; Meet the Artist Wine Reception on Sunday\, September 29\, 4-6 pm<br />\n	For more information go to <a href="http://www.influencecomm.com">www.influencecomm.com</a> </span></span></span></span><br />\n	&nbsp\;</div>\n
LOCATION:Crandon Nature Center 6767 Crandon Blvd Key Biscayne\, FL 33149
UID:e.330.3987
SEQUENCE:3
DTSTAMP:20260420T000031Z
URL:https://business.keybiscaynechamber.org/events/details/meet-the-artist-wine-reception-jacqueline-roch-09-29-2013-3987
END:VEVENT

END:VCALENDAR
