BEGIN:VCALENDAR
VERSION:2.0
PRODID:-//ChamberMaster//Event Calendar 2.0//EN
METHOD:PUBLISH
X-PUBLISHED-TTL:P3D
REFRESH-INTERVAL:P3D
CALSCALE:GREGORIAN
BEGIN:VEVENT
DTSTART:20130420T223000Z
DTEND:20130422T000000Z
X-MICROSOFT-CDO-ALLDAYEVENT:FALSE
SUMMARY:Marjory Stoneman Douglas Wild & Scenic Film Festival
DESCRIPTION:Saturday\n\n	Special guests will enjoy delicious delights & spirits on beautiful Virginia Key Beach.\n\n	Dance and watch some of the films under the moonlight. Silent Auction.\n\n	\n\n	Sunday\n\n	8 Hours of Exciting\, Award Winning\, Inspiring Short Films plus Eco-Tours and Displays from Various Local Organizations.
X-ALT-DESC;FMTTYPE=text/html:<div style="color: gray">\n	<span style="color: #000000"><em>Saturday<br />\n	Special guests will enjoy delicious delights &amp\; spirits on beautiful Virginia Key Beach.<br />\n	Dance and watch some of the films under the moonlight. Silent Auction.<br />\n	<br />\n	Sunday<br />\n	<em>8 Hours of Exciting\, Award Winning\, Inspiring Short Films plus Eco-Tours and Displays from Various Local Organizations</em>.</em></span></div>\n
LOCATION:Virginia Key Beach Park
UID:e.330.3896
SEQUENCE:3
DTSTAMP:20260420T080036Z
URL:https://business.keybiscaynechamber.org/events/details/marjory-stoneman-douglas-wild-scenic-film-festival-04-20-2013-3896
END:VEVENT

END:VCALENDAR
