BEGIN:VCALENDAR
VERSION:2.0
PRODID:-//ChamberMaster//Event Calendar 2.0//EN
METHOD:PUBLISH
X-PUBLISHED-TTL:P3D
REFRESH-INTERVAL:P3D
CALSCALE:GREGORIAN
BEGIN:VEVENT
DTSTART:20250614T120000Z
DTEND:20250614T150000Z
X-MICROSOFT-CDO-ALLDAYEVENT:FALSE
SUMMARY:Marine Stadium Cleanup - Project Anchor Down
DESCRIPTION:Join Project Anchor Down for our second beach cleanup at Marine Stadium on Saturday\, June 14th from 8:00 AM to 11:00 AM!\n\n\n\nHelp us make a difference by removing litter and protecting marine life. Closed-toe shoes are mandatory\, and we encourage everyone to bring a reusable water bottle pre-filled to stay hydrated. Gloves\, trash bags\, and other supplies will be provided.\n\n\n\nCommunity service hours can be provided. Please make sure every individual person fills out their own form.\n\n\n\nFurther instructions about parking/permits will sent out through email. Thank you for being a part of the change!
X-ALT-DESC;FMTTYPE=text/html:<br />\n<br />\nJoin Project Anchor Down for our second beach cleanup at Marine Stadium on Saturday\, June 14th from 8:00 AM to 11:00 AM!<br />\n<br />\nHelp us make a difference by removing litter and protecting marine life. Closed-toe shoes are mandatory\, and we encourage everyone to bring a reusable water bottle pre-filled to stay hydrated. Gloves\, trash bags\, and other supplies will be provided.<br />\n<br />\nCommunity service hours can be provided. Please make sure every individual person fills out their own form.<br />\n<br />\nFurther instructions about parking/permits will sent out through email. Thank you for being a part of the change!
LOCATION:Miami Marine Staduium
UID:e.330.23095
SEQUENCE:3
DTSTAMP:20260425T032616Z
URL:https://business.keybiscaynechamber.org/events/details/marine-stadium-cleanup-project-anchor-down-23095
END:VEVENT

END:VCALENDAR
