BEGIN:VCALENDAR
VERSION:2.0
PRODID:-//ChamberMaster//Event Calendar 2.0//EN
METHOD:PUBLISH
X-PUBLISHED-TTL:P3D
REFRESH-INTERVAL:P3D
CALSCALE:GREGORIAN
BEGIN:VEVENT
DTSTART:20110524T133000Z
DTEND:20110525T033000Z
X-MICROSOFT-CDO-ALLDAYEVENT:FALSE
SUMMARY:Marine Mammals as Sentinel Species....
DESCRIPTION:Marine Mammals as Sentinel Species for Oceans and Human Health.\n\n\n\nA special lecture by Gregory Bossart\, VMD\, PhD\, Chief Veterinary Officer & Senior VP\, Veterinary Services\, Georgia Aquarium.
X-ALT-DESC;FMTTYPE=text/html:<span style="font-family: arial"><span style="font-size: 12px">Marine Mammals as Sentinel Species for Oceans and Human Health.<br />\n<br />\nA special lecture by Gregory Bossart\, VMD\, PhD\, Chief Veterinary Officer &amp\; Senior VP\, Veterinary Services\, Georgia Aquarium.</span></span>
LOCATION:RSMAS Auditorium\, Key Biscayne Campus\, University of Miami.
UID:e.330.3388
SEQUENCE:3
DTSTAMP:20260421T185702Z
URL:https://business.keybiscaynechamber.org/events/details/marine-mammals-as-sentinel-species-05-24-2011-3388
END:VEVENT

END:VCALENDAR
