BEGIN:VCALENDAR
VERSION:2.0
PRODID:-//ChamberMaster//Event Calendar 2.0//EN
METHOD:PUBLISH
X-PUBLISHED-TTL:P3D
REFRESH-INTERVAL:P3D
CALSCALE:GREGORIAN
BEGIN:VEVENT
DTSTART:20111219T140000Z
DTEND:20111223T180000Z
X-MICROSOFT-CDO-ALLDAYEVENT:FALSE
SUMMARY:Marine Biology Winter Camp
DESCRIPTION:The Key Biscayne Community Center presents its 2011 Marine Biology Winter Spring Camp.\n\n	 \n\n	Director: Gerard Loisel\, NSU Adjunct Professor\, College of Arts and Sciences Outstanding Teacher of the Year 2008-9.\n\n	 \n\n	Professor Loisel has taught marine biology to students of all ages for the past 33 years\, and is the former host of the PBS television series Marine Aquarium World.\n\n	 \n\n	During their Winter Break\, kids will explore the rocky inter-tidal zone at Bear Cut\, learn about interesting marine animals\, visit Miami Seaquarium\, learn to tag fish for scientific research and much more!\n\n	 \n\n	Who's it for?\n\n	 \n\n	Boys and Girls ages 8 thru 14.\n\n	 \n\n	Space is limited so please register early! \n\n	 \n\n	Note: Registration cannot be pro-rated. Participants must register for the entire week.
X-ALT-DESC;FMTTYPE=text/html:<div>\n	The Key Biscayne Community Center presents its 2011 Marine Biology Winter Spring Camp.</div>\n<div>\n	&nbsp\;</div>\n<div>\n	Director: Gerard Loisel\, NSU Adjunct Professor\, College of Arts and Sciences Outstanding Teacher of the Year 2008-9.</div>\n<div>\n	&nbsp\;</div>\n<div>\n	Professor Loisel has taught marine biology to students of all ages for the past 33 years\, and is the former host of the PBS television series Marine Aquarium World.</div>\n<div>\n	&nbsp\;</div>\n<div>\n	During their Winter Break\, kids will explore the rocky inter-tidal zone at Bear Cut\, learn about interesting marine animals\, visit Miami Seaquarium\, learn to tag fish for scientific research and much more!</div>\n<div>\n	&nbsp\;</div>\n<div>\n	Who&#39\;s it for?</div>\n<div>\n	&nbsp\;</div>\n<div>\n	Boys and Girls ages 8 thru 14.</div>\n<div>\n	&nbsp\;</div>\n<div>\n	<strong>Space is limited&nbsp\;so please register early! </strong></div>\n<div>\n	&nbsp\;</div>\n<div>\n	<em>Note: Registration cannot be pro-rated. Participants must register for the entire week.</em></div>\n
LOCATION:Key Biscayne Community Center\, 10 Village Green Way
UID:e.330.1543
SEQUENCE:3
DTSTAMP:20260421T090444Z
URL:https://business.keybiscaynechamber.org/events/details/marine-biology-winter-camp-12-19-2011-1543
END:VEVENT

END:VCALENDAR
