BEGIN:VCALENDAR
VERSION:2.0
PRODID:-//ChamberMaster//Event Calendar 2.0//EN
METHOD:PUBLISH
X-PUBLISHED-TTL:P3D
REFRESH-INTERVAL:P3D
CALSCALE:GREGORIAN
BEGIN:VEVENT
DTSTART:20120312T130000Z
DTEND:20120316T170000Z
X-MICROSOFT-CDO-ALLDAYEVENT:FALSE
SUMMARY:Marine Biology Spring Camp 2012
DESCRIPTION:Professor Gerard Loisel will once again have a great Spring camp where kids will explore the rocky inter-tidal zone at Bear Cut\, learn about interesting marine animals\, visit the Miami Seaquarium\, learn to tag fish for scientific research and much more.
X-ALT-DESC;FMTTYPE=text/html:Professor Gerard Loisel will once again have a great Spring camp where kids will explore the rocky inter-tidal zone at Bear Cut\, learn about interesting marine animals\, visit the Miami Seaquarium\, learn to tag fish for scientific research and much more.
LOCATION:Key Biscayne Community Center 10 Village Green Way Key Biscayne
UID:e.330.3602
SEQUENCE:3
DTSTAMP:20260421T032046Z
URL:https://business.keybiscaynechamber.org/events/details/marine-biology-spring-camp-2012-03-12-2012-3602
END:VEVENT

END:VCALENDAR
