BEGIN:VCALENDAR
VERSION:2.0
PRODID:-//ChamberMaster//Event Calendar 2.0//EN
METHOD:PUBLISH
X-PUBLISHED-TTL:P3D
REFRESH-INTERVAL:P3D
CALSCALE:GREGORIAN
BEGIN:VEVENT
DTSTART:20251111T140000Z
DTEND:20251111T180000Z
X-MICROSOFT-CDO-ALLDAYEVENT:FALSE
SUMMARY:Marine Biology Camp
DESCRIPTION:Veteran's Day Camp at the Key Biscayne Beach Club on Tuesday\, November 11\, 2025.\n\n\n\nRegistration is open at www.marinebiologycamp.net.
X-ALT-DESC;FMTTYPE=text/html:<br />\n<br />\n<br />\n<span style="caret-color: rgb(0\, 0\, 0)\; color: rgb(0\, 0\, 0)\; font-family: Calibri\, Helvetica\, sans-serif\; font-size: 16px\; text-size-adjust: auto\;">Veteran&#39\;s Day Camp at the Key Biscayne Beach Club on Tuesday\, November 11\, 2025.<br />\n<br />\nRegistration is open at <a href="https://marinebiologycamp.net/">www.marinebiologycamp.net</a>. </span>
LOCATION:Key Biscayne Beach Club
UID:e.330.23237
SEQUENCE:3
DTSTAMP:20260424T193630Z
URL:https://business.keybiscaynechamber.org/events/details/marine-biology-camp-23237
END:VEVENT

END:VCALENDAR
