BEGIN:VCALENDAR
VERSION:2.0
PRODID:-//ChamberMaster//Event Calendar 2.0//EN
METHOD:PUBLISH
X-PUBLISHED-TTL:P3D
REFRESH-INTERVAL:P3D
CALSCALE:GREGORIAN
BEGIN:VEVENT
DTSTART:20130817T140000Z
DTEND:20130817T170000Z
X-MICROSOFT-CDO-ALLDAYEVENT:FALSE
SUMMARY:Make a Splash - Back to School w/ Mercy Hospital
DESCRIPTION:Water games*Face Painting\n\nEntertainment* Surprises\n\nGiveaways*Lunch\n\n\n\n*****Bring your towel\n\n\n\nRSVP - 305-285-2929
X-ALT-DESC;FMTTYPE=text/html:<span style="font-size: 16px"><span style="font-family: comic sans ms">Water games*Face Painting<br />\nEntertainment* Surprises<br />\nGiveaways*Lunch<br />\n<br />\n*****Bring your towel<br />\n<br />\nRSVP - 305-285-2929</span></span>
LOCATION:Mercy Hospital South Shore by the Bay 3663 South Miami Ave Miami\, FL 33133
UID:e.330.3966
SEQUENCE:3
DTSTAMP:20260420T014120Z
URL:https://business.keybiscaynechamber.org/events/details/make-a-splash-back-to-school-w-mercy-hospital-08-17-2013-3966
END:VEVENT

END:VCALENDAR
