BEGIN:VCALENDAR
VERSION:2.0
PRODID:-//ChamberMaster//Event Calendar 2.0//EN
METHOD:PUBLISH
X-PUBLISHED-TTL:P3D
REFRESH-INTERVAL:P3D
CALSCALE:GREGORIAN
BEGIN:VEVENT
DTSTART:20131206T163000Z
DTEND:20131206T223000Z
X-MICROSOFT-CDO-ALLDAYEVENT:FALSE
SUMMARY:Magic on the bay
DESCRIPTION:Art\, Music\, Sports\, & water festival.
X-ALT-DESC;FMTTYPE=text/html:Art\, Music\, Sports\, &amp\; water festival.
LOCATION:
UID:e.330.4034
SEQUENCE:3
DTSTAMP:20260419T191638Z
URL:https://business.keybiscaynechamber.org/events/details/magic-on-the-bay-12-06-2013-4034
END:VEVENT

END:VCALENDAR
