BEGIN:VCALENDAR
VERSION:2.0
PRODID:-//ChamberMaster//Event Calendar 2.0//EN
METHOD:PUBLISH
X-PUBLISHED-TTL:P3D
REFRESH-INTERVAL:P3D
CALSCALE:GREGORIAN
BEGIN:VEVENT
DTSTART:20120703T230000Z
DTEND:20120704T030000Z
X-MICROSOFT-CDO-ALLDAYEVENT:FALSE
SUMMARY:Louie Archambeau live
DESCRIPTION:
X-ALT-DESC;FMTTYPE=text/html:
LOCATION:The Ibis Lounge
UID:e.330.3738
SEQUENCE:3
DTSTAMP:20260420T211122Z
URL:https://business.keybiscaynechamber.org/events/details/louie-archambeau-live-07-03-2012-3738
END:VEVENT

END:VCALENDAR
