BEGIN:VCALENDAR
VERSION:2.0
PRODID:-//ChamberMaster//Event Calendar 2.0//EN
METHOD:PUBLISH
X-PUBLISHED-TTL:P3D
REFRESH-INTERVAL:P3D
CALSCALE:GREGORIAN
BEGIN:VEVENT
DTSTART;VALUE=DATE:20110815
DTEND;VALUE=DATE:20110816
TRANSP:TRANSPARENT
X-MICROSOFT-CDO-ALLDAYEVENT:TRUE
SUMMARY:Lobster Fest at the Boaters Grill & Lighthouse Cafe
DESCRIPTION:Fresh Grilled Florida Lobster\n\n	\n\n	Boaters Grill and the Lighthouse Cafe  announce their Lobster Dinner or Lunch Special\n\n	Fresh Grilled Florida Lobster Dinner with 2 sides............$19.00\n\n	\n\n	 \n\n	Locally caught in the Florida Keys
X-ALT-DESC;FMTTYPE=text/html:<h3 style="text-align: center\; color: red\;">\n	<strong><u><span style="font-size: 16px\;"><span style="font-family: comic sans ms\;">Fresh Grilled Florida Lobster</span></span></u></strong></h3>\n<p style="text-align: center\;">\n	<br />\n	<span style="font-size: 16px\;">Boaters Grill and the Lighthouse Cafe&nbsp\; announce their Lobster Dinner or Lunch Special</span><br />\n	<span style="font-size: 16px\;">Fresh Grilled Florida Lobster Dinner with 2 sides</span>............<span style="font-size: 18px\;"><span style="color: rgb(255\, 0\, 0)\;">$19.00</span></span><br />\n	<br />\n	&nbsp\;</p>\n<h3 style="text-align: center\; color: red\;">\n	<span style="font-size: 14px\;"><span style="color: rgb(255\, 0\, 0)\;">Locally caught in the Florida Keys</span></span></h3>\n
LOCATION:The Lighthouse Cafe & Boaters Grill are located within Bill Baggs Cape Florida State Park The Boaters Grill is located at No-Name Harbor and the Lighthouse Cafe next to the Lighthouse.
UID:e.330.3467
SEQUENCE:3
DTSTAMP:20260421T132305Z
URL:https://business.keybiscaynechamber.org/events/details/lobster-fest-at-the-boaters-grill-lighthouse-cafe-08-15-2011-3467
END:VEVENT

END:VCALENDAR
