BEGIN:VCALENDAR
VERSION:2.0
PRODID:-//ChamberMaster//Event Calendar 2.0//EN
METHOD:PUBLISH
X-PUBLISHED-TTL:P3D
REFRESH-INTERVAL:P3D
CALSCALE:GREGORIAN
BEGIN:VEVENT
DTSTART;VALUE=DATE:20140329
DTEND;VALUE=DATE:20140331
TRANSP:TRANSPARENT
X-MICROSOFT-CDO-ALLDAYEVENT:TRUE
SUMMARY:LJ Cross Trunk Show at Sabbia Fine Jewelry
DESCRIPTION:Sabbia Fine Jewelry at The Ritz Carlton in Key Biscayne (455 Grand Bay Drive) will host a special trunk show showcasing jewelry designer Lisa Jackson's new LJ Cross collection March 29th and 30th. Whether it be a beautifully crafted\, minimalist cross starting at $1\,200\, or a grand statement piece featuring large gemstones\, organic pearls and halos of diamonds priced at $100\,000\, Jackson has created something to fit each of her discerning clientele's individual style. For more information\, contact mail@ljcrossny.com
X-ALT-DESC;FMTTYPE=text/html:Sabbia Fine Jewelry at The Ritz Carlton in Key Biscayne (455 Grand Bay Drive) will host a special trunk show showcasing jewelry designer Lisa Jackson&#39\;s new LJ Cross collection March 29th and 30th. Whether it be a beautifully crafted\, minimalist cross starting at $1\,200\, or a grand statement piece featuring large gemstones\, organic pearls and halos of diamonds priced at $100\,000\, Jackson has created something to fit each of her discerning clientele&#39\;s individual style. For more information\, contact mail@ljcrossny.com
LOCATION:The Ritz Carlton in Key Biscayne (455 Grand Bay Drive
UID:e.330.4070
SEQUENCE:3
DTSTAMP:20260419T150657Z
URL:https://business.keybiscaynechamber.org/events/details/lj-cross-trunk-show-at-sabbia-fine-jewelry-03-29-2014-4070
END:VEVENT

END:VCALENDAR
