BEGIN:VCALENDAR
VERSION:2.0
PRODID:-//ChamberMaster//Event Calendar 2.0//EN
METHOD:PUBLISH
X-PUBLISHED-TTL:P3D
REFRESH-INTERVAL:P3D
CALSCALE:GREGORIAN
BEGIN:VEVENT
DTSTART:20121222T030000Z
DTEND:20121222T070000Z
X-MICROSOFT-CDO-ALLDAYEVENT:FALSE
SUMMARY:live rock by Switch
DESCRIPTION:
X-ALT-DESC;FMTTYPE=text/html:
LOCATION:The Ibis Lounge 200 Crandon Blvd #101 Key Biscayne\, Fl 33149
UID:e.330.3820
SEQUENCE:3
DTSTAMP:20260420T144711Z
URL:https://business.keybiscaynechamber.org/events/details/live-rock-by-switch-12-21-2012-3820
END:VEVENT

END:VCALENDAR
