BEGIN:VCALENDAR
VERSION:2.0
PRODID:-//ChamberMaster//Event Calendar 2.0//EN
METHOD:PUBLISH
X-PUBLISHED-TTL:P3D
REFRESH-INTERVAL:P3D
CALSCALE:GREGORIAN
BEGIN:VEVENT
DTSTART:20110618T020000Z
DTEND:20110618T060000Z
X-MICROSOFT-CDO-ALLDAYEVENT:FALSE
SUMMARY:Live Rock at The Ibis Lounge
DESCRIPTION:Rock the night away with Milo Antics
X-ALT-DESC;FMTTYPE=text/html:Rock the night away with Milo Antics
LOCATION:The Ibis Lounge 200 Crandon Blvd #101 Key Biscayne\, Fl 33149
UID:e.330.3425
SEQUENCE:3
DTSTAMP:20260421T172628Z
URL:https://business.keybiscaynechamber.org/events/details/live-rock-at-the-ibis-lounge-06-17-2011-3425
END:VEVENT

END:VCALENDAR
