BEGIN:VCALENDAR
VERSION:2.0
PRODID:-//ChamberMaster//Event Calendar 2.0//EN
METHOD:PUBLISH
X-PUBLISHED-TTL:P3D
REFRESH-INTERVAL:P3D
CALSCALE:GREGORIAN
BEGIN:VEVENT
DTSTART:20110611T010000Z
DTEND:20110611T050000Z
X-MICROSOFT-CDO-ALLDAYEVENT:FALSE
SUMMARY:Live Blues at The Ibis Lounge
DESCRIPTION:Listen to the award-winning blues by Big Poppa E and the E Band
X-ALT-DESC;FMTTYPE=text/html:Listen to the award-winning blues by Big Poppa E and the E Band
LOCATION:The Ibis Lounge 200 Crandon Blvd #101 Key Biscayne\, Fl 33149
UID:e.330.3424
SEQUENCE:3
DTSTAMP:20260421T172628Z
URL:https://business.keybiscaynechamber.org/events/details/live-blues-at-the-ibis-lounge-06-10-2011-3424
END:VEVENT

END:VCALENDAR
