BEGIN:VCALENDAR
VERSION:2.0
PRODID:-//ChamberMaster//Event Calendar 2.0//EN
METHOD:PUBLISH
X-PUBLISHED-TTL:P3D
REFRESH-INTERVAL:P3D
CALSCALE:GREGORIAN
BEGIN:VEVENT
DTSTART:20140222T123000Z
DTEND:20140223T043000Z
X-MICROSOFT-CDO-ALLDAYEVENT:FALSE
SUMMARY:Lions Club Pancake Breakfast
DESCRIPTION:The KeLions Cluby Biscayne Lion's Club will host its annual Pancake Breakfast at the Key Biscayne Beach Club. Tickets $7.00 for adults and $3.00 for children\, will be available at the door. The breakfast will be held from 7:30-11:30 am.
X-ALT-DESC;FMTTYPE=text/html:The KeLions Cluby Biscayne Lion&#39\;s Club will host its annual Pancake Breakfast at the Key Biscayne Beach Club. Tickets $7.00 for adults and $3.00 for children\, will be available at the door. The breakfast will be held from 7:30-11:30 am. 
LOCATION:
UID:e.330.4057
SEQUENCE:3
DTSTAMP:20260419T163508Z
URL:https://business.keybiscaynechamber.org/events/details/lions-club-pancake-breakfast-02-22-2014-4057
END:VEVENT

END:VCALENDAR
