BEGIN:VCALENDAR
VERSION:2.0
PRODID:-//ChamberMaster//Event Calendar 2.0//EN
METHOD:PUBLISH
X-PUBLISHED-TTL:P3D
REFRESH-INTERVAL:P3D
CALSCALE:GREGORIAN
BEGIN:VEVENT
DTSTART:20110219T123000Z
DTEND:20110219T160000Z
X-MICROSOFT-CDO-ALLDAYEVENT:FALSE
SUMMARY:Lions Club Pancake Breakfast
DESCRIPTION:The Key Biscayne Lions Club Annual Pancake Breakfast.\n\n\n\nDoor Prizes.\n\n\n\nTickets on sale at the door.\n\n\n\nMusic provided.
X-ALT-DESC;FMTTYPE=text/html:<span style="font-family: arial"><span style="font-size: 12px">The Key Biscayne Lions Club Annual Pancake Breakfast.<br />\n<br />\nDoor Prizes.<br />\n<br />\nTickets on sale at the door.<br />\n<br />\nMusic provided.</span></span>
LOCATION:Key Biscayne Beach Club\, 685 Ocean Drive\, Key Biscayne\, FL 33149
UID:e.330.3071
SEQUENCE:3
DTSTAMP:20260421T213841Z
URL:https://business.keybiscaynechamber.org/events/details/lions-club-pancake-breakfast-02-19-2011-3071
END:VEVENT

END:VCALENDAR
