BEGIN:VCALENDAR
VERSION:2.0
PRODID:-//ChamberMaster//Event Calendar 2.0//EN
METHOD:PUBLISH
X-PUBLISHED-TTL:P3D
REFRESH-INTERVAL:P3D
CALSCALE:GREGORIAN
BEGIN:VEVENT
DTSTART:20110423T140000Z
DTEND:20110427T230000Z
X-MICROSOFT-CDO-ALLDAYEVENT:FALSE
SUMMARY:Lina Fanourakis at SABBIA
DESCRIPTION:SABBIA are delighted to announce a personal appearance by internationally acclaimed artist\n\n	\n\n	Lina Fanourakis\n\n	\n\n	at\n\n	 The Ritz-Carlton Key Biscayne\n\n	455 Grand Bay Drive\n\n	\n\n	to celebrate her 2011 jewelry collection.\n\n	\n\n	with Champagne and Chocolates
X-ALT-DESC;FMTTYPE=text/html:<p style="text-align: center">\n	<span style="font-family: arial"><span style="font-size: 12px">SABBIA are delighted to announce a personal appearance by internationally acclaimed artist<br />\n	<br />\n	<strong>Lina Fanourakis<br />\n	<br />\n	at<br />\n	&nbsp\;The Ritz-Carlton Key Biscayne<br />\n	455 Grand Bay Drive<br />\n	<br />\n	to celebrate her 2011 jewelry collection.<br />\n	<br />\n	with Champagne and Chocolates</strong></span></span></p>\n
LOCATION:The Ritz-Carlton Key Biscayne\, 455 Grand Bay Drive.
UID:e.330.3345
SEQUENCE:3
DTSTAMP:20260421T185655Z
URL:https://business.keybiscaynechamber.org/events/details/lina-fanourakis-at-sabbia-04-23-2011-3345
END:VEVENT

END:VCALENDAR
