BEGIN:VCALENDAR
VERSION:2.0
PRODID:-//ChamberMaster//Event Calendar 2.0//EN
METHOD:PUBLISH
X-PUBLISHED-TTL:P3D
REFRESH-INTERVAL:P3D
CALSCALE:GREGORIAN
BEGIN:VEVENT
DTSTART:20121110T121500Z
DTEND:20121110T170000Z
X-MICROSOFT-CDO-ALLDAYEVENT:FALSE
SUMMARY:Lighthouse Run & Walk
DESCRIPTION:Lighthouse Run & Walk\n\n10K Road Race/5K Road Race and 5K Walk\n\n$25 Registration Fee
X-ALT-DESC;FMTTYPE=text/html:Lighthouse Run &amp\; Walk<br />\n10K Road Race/5K Road Race and 5K Walk<br />\n$25 Registration Fee
LOCATION:Bill Baggs State Park 1200 Crandon Blvd Key Biscayne\, FL 33149
UID:e.330.3785
SEQUENCE:3
DTSTAMP:20260420T144937Z
URL:https://business.keybiscaynechamber.org/events/details/lighthouse-run-walk-11-10-2012-3785
END:VEVENT

END:VCALENDAR
