BEGIN:VCALENDAR
VERSION:2.0
PRODID:-//ChamberMaster//Event Calendar 2.0//EN
METHOD:PUBLISH
X-PUBLISHED-TTL:P3D
REFRESH-INTERVAL:P3D
CALSCALE:GREGORIAN
BEGIN:VEVENT
DTSTART:20140513T140000Z
DTEND:20140513T190000Z
X-MICROSOFT-CDO-ALLDAYEVENT:FALSE
SUMMARY:Licensing on wheels
DESCRIPTION:@KB COmmunity Center\, By appointment only. Call 305-365-8953
X-ALT-DESC;FMTTYPE=text/html:@KB COmmunity Center\, By appointment only. Call 305-365-8953
LOCATION:
UID:e.330.4107
SEQUENCE:3
DTSTAMP:20260419T133412Z
URL:https://business.keybiscaynechamber.org/events/details/licensing-on-wheels-05-13-2014-4107
END:VEVENT

END:VCALENDAR
