BEGIN:VCALENDAR
VERSION:2.0
PRODID:-//ChamberMaster//Event Calendar 2.0//EN
METHOD:PUBLISH
X-PUBLISHED-TTL:P3D
REFRESH-INTERVAL:P3D
CALSCALE:GREGORIAN
BEGIN:VEVENT
DTSTART:20120620T213000Z
DTEND:20120620T223000Z
X-MICROSOFT-CDO-ALLDAYEVENT:FALSE
SUMMARY:Let's Talk Taxes-Property Taxes
DESCRIPTION:Miami-Dade Tax Appraiser Pedro J. Garcia talks about your property taxes. \n\n	Question and answers afterwards.
X-ALT-DESC;FMTTYPE=text/html:<p>\n	Miami-Dade Tax Appraiser Pedro J. Garcia talks about your property taxes.&nbsp\;<br />\n	Question and answers afterwards.&nbsp\;</p>\n
LOCATION:Village Council Chamber
UID:e.330.3731
SEQUENCE:3
DTSTAMP:20260420T223021Z
URL:https://business.keybiscaynechamber.org/events/details/let-s-talk-taxes-property-taxes-06-20-2012-3731
END:VEVENT

END:VCALENDAR
