BEGIN:VCALENDAR
VERSION:2.0
PRODID:-//ChamberMaster//Event Calendar 2.0//EN
METHOD:PUBLISH
X-PUBLISHED-TTL:P3D
REFRESH-INTERVAL:P3D
CALSCALE:GREGORIAN
BEGIN:VEVENT
DTSTART:20130925T230000Z
DTEND:20130926T003000Z
X-MICROSOFT-CDO-ALLDAYEVENT:FALSE
SUMMARY:Lecture on Raising Boys
DESCRIPTION:Get expert parenting advice and strategies for raising a confident and successful son from pediatrician Alexis Perera\, MD. Space is limited.  Registration is required by calling 305-365-8900 or stopping by the front desk.  Brought to you by Key Biscayne Community Center.
X-ALT-DESC;FMTTYPE=text/html:<div style="color: gray">\n	<span style="color: #000000"><span style="font-size: 10pt"><span style="font-family: trebuchet ms\, sans-serif"><span style="font-family: trebuchet ms">Get expert parenting advice and strategies for raising a confident and successful son from pediatrician Alexis Perera\, MD. Space is limited.&nbsp\; Registration is required by calling 305-365-8900 or stopping by the front desk.&nbsp\; Brought to you by Key Biscayne Community Center.</span></span></span></span></div>\n
LOCATION:Key Biscayne Community Center 10 Village Green Way Key Biscayne\, FL
UID:e.330.3991
SEQUENCE:3
DTSTAMP:20260420T012910Z
URL:https://business.keybiscaynechamber.org/events/details/lecture-on-raising-boys-09-25-2013-3991
END:VEVENT

END:VCALENDAR
