BEGIN:VCALENDAR
VERSION:2.0
PRODID:-//ChamberMaster//Event Calendar 2.0//EN
METHOD:PUBLISH
X-PUBLISHED-TTL:P3D
REFRESH-INTERVAL:P3D
CALSCALE:GREGORIAN
BEGIN:VEVENT
DTSTART:20110215T170000Z
DTEND:20110215T180000Z
X-MICROSOFT-CDO-ALLDAYEVENT:FALSE
SUMMARY:Leads Referral Group: Net Work$ Doing Business Luncheon
DESCRIPTION:The Membership Committee Leads Group was established to help businesses network and get new business opportunities.\n\n	The first meeting\, on Tuesday January 18 at Archie's Pizza Caf  was a great success. The 14 in attendance developed a "minute sales pitch" and swapped useful leads. The next meeting is on Tuesday\, Feb 15th at KB Burgers and More\, at noon\, the cost\, $10.00 plus your lunch. If you bring a potential member the $10.00 fee is waived for you both.\n\n	For further information please contact Membership Committee Chair Robert Duzoglou at rddcorp@aol.com
X-ALT-DESC;FMTTYPE=text/html:<p class="MsoNormal" style="margin: 0in 0in 10pt">\n	<span style="font-family: 'arial'\, 'sans-serif'"><font color="#000000"><font size="3">The Membership Committee Leads Group was established to help businesses network and get new business opportunities.<br />\n	The first meeting\, on Tuesday January 18 at Archie&#39\;s Pizza Caf&eacute\; was a great success. The 14 in attendance developed a &quot\;minute sales pitch&quot\; and swapped useful leads. The next meeting is on Tuesday\, Feb 15th at KB Burgers and More\, at noon\, the cost\, $10.00 plus your lunch. If you bring a potential member the $10.00 fee is waived for you both.<o:p></o:p></font></font></span></p>\n<p class="MsoNormal" style="margin: 0in 0in 10pt">\n	<span style="font-family: 'arial'\, 'sans-serif'"><font color="#000000" size="3">For further information please contact Membership Committee Chair Robert Duzoglou at </font></span><a href="mailto:rddcorp@aol.com" target="_blank"><span style="font-family: 'arial'\, 'sans-serif'"><font size="3">rddcorp@aol.com</font></span></a><span style="font-family: 'arial'\, 'sans-serif'"><o:p></o:p></span></p>\n
LOCATION:KB Burgers and More
UID:e.330.3052
SEQUENCE:3
DTSTAMP:20260421T230015Z
URL:https://business.keybiscaynechamber.org/events/details/leads-referral-group-net-work-doing-business-luncheon-02-15-2011-3052
END:VEVENT

END:VCALENDAR
