BEGIN:VCALENDAR
VERSION:2.0
PRODID:-//ChamberMaster//Event Calendar 2.0//EN
METHOD:PUBLISH
X-PUBLISHED-TTL:P3D
REFRESH-INTERVAL:P3D
CALSCALE:GREGORIAN
BEGIN:VEVENT
DTSTART:20110916T000000Z
DTEND:20110916T035500Z
X-MICROSOFT-CDO-ALLDAYEVENT:FALSE
SUMMARY:Latin Night at The Ibis Lounge with German Osorio
DESCRIPTION:Dance the night away with German Osorio
X-ALT-DESC;FMTTYPE=text/html:<p>\n	Dance the night away with German Osorio</p>\n
LOCATION:The Ibis Lounge 200 Crandon Blvd #101 Key Biscayne\, Fl 33149
UID:e.330.3475
SEQUENCE:3
DTSTAMP:20260421T115846Z
URL:https://business.keybiscaynechamber.org/events/details/latin-night-at-the-ibis-lounge-with-german-osorio-09-15-2011-3475
END:VEVENT

END:VCALENDAR
