BEGIN:VCALENDAR
VERSION:2.0
PRODID:-//ChamberMaster//Event Calendar 2.0//EN
METHOD:PUBLISH
X-PUBLISHED-TTL:P3D
REFRESH-INTERVAL:P3D
CALSCALE:GREGORIAN
BEGIN:VEVENT
DTSTART:20110813T020000Z
DTEND:20110813T060000Z
X-MICROSOFT-CDO-ALLDAYEVENT:FALSE
SUMMARY:Latin Night at The Ibis Lounge with Eloy Orta
DESCRIPTION:Dance the night away with Eloy Orta
X-ALT-DESC;FMTTYPE=text/html:<p>\n	Dance the night away with Eloy Orta</p>\n
LOCATION:The Ibis Lougge 200 Crandon Blvd #101 Key Biscayne\, Fl 33149
UID:e.330.3461
SEQUENCE:3
DTSTAMP:20260421T132250Z
URL:https://business.keybiscaynechamber.org/events/details/latin-night-at-the-ibis-lounge-with-eloy-orta-08-12-2011-3461
END:VEVENT

END:VCALENDAR
