BEGIN:VCALENDAR
VERSION:2.0
PRODID:-//ChamberMaster//Event Calendar 2.0//EN
METHOD:PUBLISH
X-PUBLISHED-TTL:P3D
REFRESH-INTERVAL:P3D
CALSCALE:GREGORIAN
BEGIN:VEVENT
DTSTART:20110528T010000Z
DTEND:20110528T050000Z
X-MICROSOFT-CDO-ALLDAYEVENT:FALSE
SUMMARY:Latin Night at The Ibis Lounge
DESCRIPTION:dance the night away with Eloy Orta
X-ALT-DESC;FMTTYPE=text/html:dance the night away with Eloy Orta
LOCATION:The Ibis Lounge 200 Crandon Blvd #101 Key Biscayne\, Fl 33149
UID:e.330.3389
SEQUENCE:3
DTSTAMP:20260421T184636Z
URL:https://business.keybiscaynechamber.org/events/details/latin-night-at-the-ibis-lounge-05-27-2011-3389
END:VEVENT

END:VCALENDAR
