BEGIN:VCALENDAR
VERSION:2.0
PRODID:-//ChamberMaster//Event Calendar 2.0//EN
METHOD:PUBLISH
X-PUBLISHED-TTL:P3D
REFRESH-INTERVAL:P3D
CALSCALE:GREGORIAN
BEGIN:VEVENT
DTSTART:20110319T010000Z
DTEND:20110319T050000Z
X-MICROSOFT-CDO-ALLDAYEVENT:FALSE
SUMMARY:Latin Night at The Ibis Lounge
DESCRIPTION:bring your dancing shoes for Eloy Orta
X-ALT-DESC;FMTTYPE=text/html:bring your dancing shoes for Eloy Orta
LOCATION:The Ibis Lounge 200 Crandon Blvd #101 Key Biscayne\, Fl 33149
UID:e.330.3328
SEQUENCE:3
DTSTAMP:20260421T202207Z
URL:https://business.keybiscaynechamber.org/events/details/latin-night-at-the-ibis-lounge-03-18-2011-3328
END:VEVENT

END:VCALENDAR
