BEGIN:VCALENDAR
VERSION:2.0
PRODID:-//ChamberMaster//Event Calendar 2.0//EN
METHOD:PUBLISH
X-PUBLISHED-TTL:P3D
REFRESH-INTERVAL:P3D
CALSCALE:GREGORIAN
BEGIN:VEVENT
DTSTART:20110115T020000Z
DTEND:20110115T060000Z
X-MICROSOFT-CDO-ALLDAYEVENT:FALSE
SUMMARY:Latin Night at The Ibis Lounge
DESCRIPTION:Don't forget your dancing shoes for live Latin music by Eloy Orta\n\n\n\nno cover\n\nfree parking
X-ALT-DESC;FMTTYPE=text/html:Don't forget your dancing shoes for live Latin music by Eloy Orta\n<br>\n<br>no cover\n<br>free parking
LOCATION:The Ibis Lounge 200 Crandon Blvd #101 Key Biscayne\, Fl 33149
UID:e.330.3034
SEQUENCE:3
DTSTAMP:20260422T001245Z
URL:https://business.keybiscaynechamber.org/events/details/latin-night-at-the-ibis-lounge-01-14-2011-3034
END:VEVENT

END:VCALENDAR
