BEGIN:VCALENDAR
VERSION:2.0
PRODID:-//ChamberMaster//Event Calendar 2.0//EN
METHOD:PUBLISH
X-PUBLISHED-TTL:P3D
REFRESH-INTERVAL:P3D
CALSCALE:GREGORIAN
BEGIN:VEVENT
DTSTART:20120714T020000Z
DTEND:20120714T060000Z
X-MICROSOFT-CDO-ALLDAYEVENT:FALSE
SUMMARY:latin beats with ALFREDO CHACON
DESCRIPTION:
X-ALT-DESC;FMTTYPE=text/html:
LOCATION:The Ibis Lounge 200 Crandon Blvd
UID:e.330.3745
SEQUENCE:3
DTSTAMP:20260420T222713Z
URL:https://business.keybiscaynechamber.org/events/details/latin-beats-with-alfredo-chacon-07-13-2012-3745
END:VEVENT

END:VCALENDAR
