BEGIN:VCALENDAR
VERSION:2.0
PRODID:-//ChamberMaster//Event Calendar 2.0//EN
METHOD:PUBLISH
X-PUBLISHED-TTL:P3D
REFRESH-INTERVAL:P3D
CALSCALE:GREGORIAN
BEGIN:VEVENT
DTSTART:20250927T020000Z
DTEND:20250927T035500Z
X-MICROSOFT-CDO-ALLDAYEVENT:FALSE
SUMMARY:Laser Tag for Teens (ages 11-18 years) - After Hours!
DESCRIPTION:After Hours Laser Tag Showdown!\n\nat the Key Biscayne Community Center\n\n\n\n \n\nGet ready for an epic night of laser tag battles\,   pizza  (while supplies last)\,\n\nand late-night fun for kids from 11-18 years old!\n\n\n\n  Register by 5PM\, Sept. 26th at the Community Center front desk.\n\n\n\n*Must be a Key Biscayne resident to participate*\n\n\n\nKBCC Members: FREE\n\nNon-members: $6.00
X-ALT-DESC;FMTTYPE=text/html:&nbsp\;\n<div style="color: rgb(51\, 51\, 51)\; font-family: sans-serif\, Arial\, Verdana\, &quot\;Trebuchet MS&quot\;\; font-size: 13px\; text-align: center\;"><span style="font-size: 20px\;"><span style="background-color: rgb(255\, 255\, 255)\;">&#127919\; After Hours Laser Tag Showdown!</span></span><br />\n<span style="font-size: 16px\;"><span style="background-color: rgb(255\, 255\, 255)\;">at the Key Biscayne Community Center</span></span><br />\n<br />\n&nbsp\;</div>\n\n<div style="color: rgb(51\, 51\, 51)\; font-family: sans-serif\, Arial\, Verdana\, &quot\;Trebuchet MS&quot\;\; font-size: 13px\; text-align: center\;"><span style="font-size: 14px\;"><span style="background-color: rgb(255\, 255\, 255)\;">Get ready for an epic night of laser tag battles\,&nbsp\;</span></span><span style="font-size: 14px\;">&#127829\;&nbsp\;</span><span style="font-size: 14px\;"><span style="background-color: rgb(255\, 255\, 255)\;">pizza&nbsp\;</span></span><span style="font-size: 14px\;">&nbsp\;(</span><span style="font-size: 14px\;">while supplies last)<span style="background-color: rgb(255\, 255\, 255)\;">\,<br />\nand late-night fun for kids from 11-18 years old!</span><br style="font-size: 13px\;" />\n<br style="font-size: 13px\;" />\n<span style="background-color: rgb(255\, 255\, 255)\;">&#9889\; Register by 5PM\, Sept. 26th&nbsp\;at the Community Center front desk.</span><br />\n<br style="font-size: 13px\;" />\n<strong><span style="background-color: rgb(255\, 255\, 255)\;">*Must be a Key Biscayne resident to participate*</span></strong></span><br />\n<br />\nKBCC Members: FREE<br />\nNon-members: $6.00</div>\n<br />\n&nbsp\;
LOCATION:Key Biscayne Community Center
UID:e.330.23232
SEQUENCE:3
DTSTAMP:20260424T224944Z
URL:https://business.keybiscaynechamber.org/events/details/laser-tag-for-teens-ages-11-18-years-after-hours-23232
END:VEVENT

END:VCALENDAR
