BEGIN:VCALENDAR
VERSION:2.0
PRODID:-//ChamberMaster//Event Calendar 2.0//EN
METHOD:PUBLISH
X-PUBLISHED-TTL:P3D
REFRESH-INTERVAL:P3D
CALSCALE:GREGORIAN
BEGIN:VEVENT
DTSTART:20250730T160000Z
DTEND:20250730T171500Z
X-MICROSOFT-CDO-ALLDAYEVENT:FALSE
SUMMARY:Landslide in Action: Biscayne Bay "Wade-ins" Webinar
DESCRIPTION:Join us for a free online webinar exploring the courageous 1945 wade-in that desegregated Miami's beaches and the artists\, historians\, and advocates keeping that legacy alive.\n\n\n\nWednesday\, July 30 from 12PM   1:15 PM\n\n\n\nModerated by Kate Fleming\, Director of Bridge Initiative.\n\n\n\nHosted by @tclfdotorg #biscaynebay #virginiakey #bridgeinitiativeorg #artasactivism #publichistory #desegregationhistory #miamihistory #wadeins
X-ALT-DESC;FMTTYPE=text/html:Join us for a free online webinar exploring the courageous 1945 wade-in that desegregated Miami&rsquo\;s beaches and the artists\, historians\, and advocates keeping that legacy alive.<br />\n<br />\nWednesday\, July 30 from 12PM &ndash\; 1:15 PM<br />\n<br />\nModerated by Kate Fleming\, Director of Bridge Initiative.<br />\n<br />\nHosted by @tclfdotorg #biscaynebay #virginiakey #bridgeinitiativeorg #artasactivism #publichistory #desegregationhistory #miamihistory #wadeins
LOCATION:Zoom Webinar
UID:e.330.23132
SEQUENCE:3
DTSTAMP:20260425T014327Z
URL:https://business.keybiscaynechamber.org/events/details/landslide-in-action-biscayne-bay-wade-ins-webinar-23132
END:VEVENT

END:VCALENDAR
