BEGIN:VCALENDAR
VERSION:2.0
PRODID:-//ChamberMaster//Event Calendar 2.0//EN
METHOD:PUBLISH
X-PUBLISHED-TTL:P3D
REFRESH-INTERVAL:P3D
CALSCALE:GREGORIAN
BEGIN:VEVENT
DTSTART;VALUE=DATE:20140508
DTEND;VALUE=DATE:20140509
TRANSP:TRANSPARENT
X-MICROSOFT-CDO-ALLDAYEVENT:TRUE
SUMMARY:La Bella Notte @ Key Hole
DESCRIPTION:Peroni tasting and promotions
X-ALT-DESC;FMTTYPE=text/html:Peroni&nbsp\;tasting and promotions
LOCATION:
UID:e.330.4104
SEQUENCE:3
DTSTAMP:20260419T121034Z
URL:https://business.keybiscaynechamber.org/events/details/la-bella-notte-key-hole-05-08-2014-4104
END:VEVENT

END:VCALENDAR
