BEGIN:VCALENDAR
VERSION:2.0
PRODID:-//ChamberMaster//Event Calendar 2.0//EN
METHOD:PUBLISH
X-PUBLISHED-TTL:P3D
REFRESH-INTERVAL:P3D
CALSCALE:GREGORIAN
BEGIN:VEVENT
DTSTART:20111108T223000Z
DTEND:20111109T003000Z
X-MICROSOFT-CDO-ALLDAYEVENT:FALSE
SUMMARY:Kick Off Party! KBCC Home Tour
DESCRIPTION:Join us on November 8th for our kick off for the Annual Home Tour which will be held in a fabulous waterfront Key Biscayne home on Harbor Point.\n\n\n\n5:30-7:30 pm\n\n\n\nWine and hors d' oeuvres compliments of Gibraltar Private Bank
X-ALT-DESC;FMTTYPE=text/html:&nbsp\;&nbsp\;<br />\n<span style="color: #ff0000"><strong><span style="font-size: 16px"><span style="font-family: arial\,sans-serif">Join us on November 8<sup>th</sup> for our kick off for the Annual Home Tour which will be held in a fabulous waterfront Key Biscayne home on Harbor Point.<br />\n<br />\n5:30-7:30 pm<br />\n<br />\nWine and hors d&#39\; oeuvres compliments of Gibraltar Private Bank</span></span></strong></span>
LOCATION:Call to RSVP Please
UID:e.330.3501
SEQUENCE:3
DTSTAMP:20260421T090506Z
URL:https://business.keybiscaynechamber.org/events/details/kick-off-party-kbcc-home-tour-11-08-2011-3501
END:VEVENT

END:VCALENDAR
