BEGIN:VCALENDAR
VERSION:2.0
PRODID:-//ChamberMaster//Event Calendar 2.0//EN
METHOD:PUBLISH
X-PUBLISHED-TTL:P3D
REFRESH-INTERVAL:P3D
CALSCALE:GREGORIAN
BEGIN:VEVENT
DTSTART:20130912T170000Z
DTEND:20130912T190000Z
X-MICROSOFT-CDO-ALLDAYEVENT:FALSE
SUMMARY:Key to Health Lecture with Robert Peel Finn\, Herbalist
DESCRIPTION:Listen to Robert Peel Finn\, Herbalist speak about Lifeline Proprietary Formulas used since 1969.
X-ALT-DESC;FMTTYPE=text/html:Listen to Robert Peel Finn\, Herbalist speak about Lifeline Proprietary Formulas used since 1969.
LOCATION:Key to Health 328 Crandon Blvd #119 Key Biscayne\, FL 33149
UID:e.330.3992
SEQUENCE:3
DTSTAMP:20260420T014508Z
URL:https://business.keybiscaynechamber.org/events/details/key-to-health-lecture-with-robert-peel-finn-herbalist-09-12-2013-3992
END:VEVENT

END:VCALENDAR
