BEGIN:VCALENDAR
VERSION:2.0
PRODID:-//ChamberMaster//Event Calendar 2.0//EN
METHOD:PUBLISH
X-PUBLISHED-TTL:P3D
REFRESH-INTERVAL:P3D
CALSCALE:GREGORIAN
BEGIN:VEVENT
DTSTART:20110629T213000Z
DTEND:20110629T233000Z
X-MICROSOFT-CDO-ALLDAYEVENT:FALSE
SUMMARY:Key Biscayne Historical & Heritage Society/U.S. Century Bank Reception
DESCRIPTION:The Key Biscayne Historical & Heritage Society\n\n	And U.S. Century Bank\n\n	Invite You to Join Us in Celebrating Our Sponsors\n\n	At a Cocktail Reception & Slide Show of Old Key Biscayne\n\n	 Date: Wednesday\, June 29\, 2011\n\n	Time: 5:30   7:30 PM\n\n	Location: U.S. Century Bank\, 260 Crandon Blvd.\, # 51\,\n\n	Key Biscayne\n\n	R.S.V.P.  Dorothy Flannery (305) 361-6772\n\n	Limited Seating\, R.S.V.P. Required
X-ALT-DESC;FMTTYPE=text/html:<span _fck_bookmark="1" style="display: none\;"><span _fck_bookmark="1" style="display: none\;">&nbsp\;</span>&nbsp\;</span><strong><span style="font-size: 16pt\;"><span style="font-family: harrington\;">The Key Biscayne Historical &amp\; Heritage Society</span></span></strong>\n<p style="text-align: center\;">\n	<strong><span style="font-size: 16pt\;"><span style="font-family: harrington\;">And U.S. Century Bank</span></span></strong></p>\n<p style="text-align: center\;">\n	<strong><span style="font-size: 16pt\;"><span style="font-family: harrington\;">Invite You to </span></span></strong><strong><span style="font-size: 16pt\;"><span style="font-family: harrington\;">Join Us in Celebrating Our Sponsors</span></span></strong><br />\n	<strong><span style="font-size: 16pt\;"><span style="font-family: harrington\;">At a </span></span></strong><strong><span style="font-size: 16pt\;"><span style="font-family: harrington\;">Cocktail Reception &amp\; Slide Show of Old Key Biscayne</span></span></strong><br />\n	<span _fck_bookmark="1" style="display: none\;">&nbsp\;</span><strong><span style="font-size: 16pt\;"><span style="font-family: harrington\;">Date: Wednesday\, June 29\, 2011</span></span></strong><br />\n	<strong><span style="font-size: 16pt\;"><span style="font-family: harrington\;">Time: 5:30 &ndash\; 7:30 PM</span></span></strong><br />\n	<strong><span style="font-size: 16pt\;"><span style="font-family: harrington\;">Location: U.S. Century Bank\, 260 Crandon Blvd.\, # 51\,<br />\n	Key Biscayne</span></span></strong><br />\n	<strong><span style="font-size: 16pt\;"><span style="font-family: harrington\;">R.S.V.P.&nbsp\; Dorothy Flannery (305) 361-6772</span></span></strong><br />\n	<strong><span style="font-size: 16pt\;"><span style="font-family: harrington\;">Limited Seating\, R.S.V.P. Required</span></span></strong><br />\n	<br />\n	&nbsp\;</p>\n
LOCATION:U.S. Century Bank 260 Crandon Blvd.\, #51 Key Biscayne\, FL
UID:e.330.3421
SEQUENCE:3
DTSTAMP:20260421T161020Z
URL:https://business.keybiscaynechamber.org/events/details/key-biscayne-historical-heritage-society-u-s-century-bank-reception-06-29-2011-3421
END:VEVENT

END:VCALENDAR
