BEGIN:VCALENDAR
VERSION:2.0
PRODID:-//ChamberMaster//Event Calendar 2.0//EN
METHOD:PUBLISH
X-PUBLISHED-TTL:P3D
REFRESH-INTERVAL:P3D
CALSCALE:GREGORIAN
BEGIN:VEVENT
DTSTART:20110113T000000Z
DTEND:20110113T020000Z
X-MICROSOFT-CDO-ALLDAYEVENT:FALSE
SUMMARY:Key Biscayne Historical & Heritage Annual Meeting
DESCRIPTION:Annual meeting of the Key Biscayne Historical & Heritage Society
X-ALT-DESC;FMTTYPE=text/html:Annual&nbsp\;meeting of the Key Biscayne Historical &amp\; Heritage Society 
LOCATION:Conference Room of the Village Administration Building on West McIntyre Street
UID:e.330.2112
SEQUENCE:3
DTSTAMP:20260421T230212Z
URL:https://business.keybiscaynechamber.org/events/details/key-biscayne-historical-heritage-annual-meeting-01-12-2011-2112
END:VEVENT

END:VCALENDAR
