BEGIN:VCALENDAR
VERSION:2.0
PRODID:-//ChamberMaster//Event Calendar 2.0//EN
METHOD:PUBLISH
X-PUBLISHED-TTL:P3D
REFRESH-INTERVAL:P3D
CALSCALE:GREGORIAN
BEGIN:VEVENT
DTSTART;VALUE=DATE:20110715
DTEND;VALUE=DATE:20110806
TRANSP:TRANSPARENT
X-MICROSOFT-CDO-ALLDAYEVENT:TRUE
SUMMARY:Key Biscayne Community Church Camps
DESCRIPTION:Key Biscayne Community Church Summer Camps are off to a great start. The kids are enjoying karate\, swim lessons and many other exciting physical activities during our Summer Fitness Camp.They still  have spots available for the remainder of the sessions ending on August 5. Please contact the Community Church if you are interested.
X-ALT-DESC;FMTTYPE=text/html:<p>\n	<span style="font-size: 12px"><span style="font-family: arial"><span style="background: yellow"><span style="background-color: #ffffff">Key Biscayne Community Church Summer Camps are off to a great start. The kids are enjoying karate\, swim lessons and many other exciting physical activities during our Summer Fitness Camp.They still&nbsp\; have spots available for the remainder of the sessions ending on August 5. Please contact the Community Church if you are interested.</span></span></span></span><br />\n	&nbsp\;</p>\n
LOCATION:
UID:e.330.3449
SEQUENCE:3
DTSTAMP:20260421T132222Z
URL:https://business.keybiscaynechamber.org/events/details/key-biscayne-community-church-camps-07-15-2011-3449
END:VEVENT

END:VCALENDAR
