BEGIN:VCALENDAR
VERSION:2.0
PRODID:-//ChamberMaster//Event Calendar 2.0//EN
METHOD:PUBLISH
X-PUBLISHED-TTL:P3D
REFRESH-INTERVAL:P3D
CALSCALE:GREGORIAN
BEGIN:VEVENT
DTSTART;VALUE=DATE:20140315
DTEND;VALUE=DATE:20140317
TRANSP:TRANSPARENT
X-MICROSOFT-CDO-ALLDAYEVENT:TRUE
SUMMARY:Key Biscayne Art Festival
DESCRIPTION:The 50th Annual Rotary Key Biscayne Art Festival will be held Saturday and Sunday\, March 15-16\, on the Village Green. For more information please visit\, www.artfestival.com
X-ALT-DESC;FMTTYPE=text/html:The 50th Annual Rotary Key Biscayne Art Festival will be held Saturday and Sunday\, March 15-16\, on the Village Green. For more information please visit\, www.artfestival.com
LOCATION:Village Green
UID:e.330.4056
SEQUENCE:3
DTSTAMP:20260419T162412Z
URL:https://business.keybiscaynechamber.org/events/details/key-biscayne-art-festival-03-15-2014-4056
END:VEVENT

END:VCALENDAR
