BEGIN:VCALENDAR
VERSION:2.0
PRODID:-//ChamberMaster//Event Calendar 2.0//EN
METHOD:PUBLISH
X-PUBLISHED-TTL:P3D
REFRESH-INTERVAL:P3D
CALSCALE:GREGORIAN
BEGIN:VEVENT
DTSTART:20120704T150000Z
DTEND:20120704T170000Z
X-MICROSOFT-CDO-ALLDAYEVENT:FALSE
SUMMARY:Key Biscayne 4th of July Parade
DESCRIPTION:Saturday\, June 30.......  You are invited to a BBQ!\n																	\n																		 \n																	\n																		Support the Parade and attend this fun\, all American BBQ at the Key Biscayne Beach Club from 7-11 pm. Did you know the volunteer committee has to raise over $45\,000 to hold the parade annually? Support the Parade and have a good meal at the same time.  Tickets: Adults $20\, Children $10\, available from Island Athletics\, the Chamber of Commerce\, table sale outside Winn-Dixie or at the door. \n																	\n																		 \n																	\n																		Wednesday\, July 4th...... Independence Day\n																	\n																		\n																			 \n																	\n																	\n																		 \n																	\n																		10:00 am  Southbound Crandon Blvd closed (traffic rerouted to 2 way on east side)                                                                                                                                \n																		\n																			 \n																		\n																			11:00 am  Parade starts with a flyover of jets and proceeds from Harbor Drive south to Westwood Drive \n																			\n																				    \n\n																				Noon:   Enjoy the Annual 4th July Picnic on the Village Green sponsored by the Key Biscayne Kiwanis Club.\n\n																				\n\n																				 9pm  Fireworks  Best viewed on  the Beach\, as they are shot off a barge located near the KB Beach Club. The fireworks are set to music\, so if you are viewing them and have a radio\, tune into the Music Broadcast on WDNA 88.9 FM\n																		\n																	\n																	\n																		Boaters - please be aware that you are not allowed to anchor to watch the fireworks and you must remain at least 500 feet from the barge.\n																	\n																		 \n																	\n																		Our thanks to the 4th July Parade Committee for their dedication\, devotion\, hard work and loving care.
X-ALT-DESC;FMTTYPE=text/html:<div>\n	<table border="0" cellpadding="0" cellspacing="0" style="width: 600px" width="600">\n		<tbody>\n			<tr>\n				<td align="left" bordercolor="#de1111" style="border-bottom: #de1111 5px solid\; border-left: #de1111 5px solid\; border-top: #de1111 5px solid\; border-right: #de1111 5px solid" valign="top">\n					<table bgcolor="#3366cc" border="0" bordercolor="#ffffff" cellpadding="0" cellspacing="5" style="border-bottom: #ffffff 5px solid\; border-left: #ffffff 5px solid\; background-color: #3366cc\; border-top: #ffffff 5px solid\; border-right: #ffffff 5px solid" width="100%">\n						<tbody>\n							<tr>\n								<td align="left" valign="top">\n									<table bgcolor="#ffffff" border="0" cellpadding="0" cellspacing="5" style="background-color: #ffffff" width="100%">\n										<tbody>\n											<tr>\n												<td align="left" bgcolor="#f7f7f7" bordercolor="#de1111" style="border-bottom: #de1111 1px solid\; border-left: #de1111 1px solid\; padding-bottom: 0px\; background-color: #f7f7f7\; padding-left: 0px\; padding-right: 0px\; border-top: #de1111 1px solid\; border-right: #de1111 1px solid\; padding-top: 0px" width="100%">\n													<table border="0" cellpadding="5" cellspacing="0" id="content_LETTER.BLOCK5" style="margin-bottom: 6px" tabindex="0" width="100%">\n														<tbody>\n															<tr>\n																<td align="left" style="font-family: georgia\, times new roman\, times\, serif\; color: #333333\; font-size: 10pt" valign="top">\n																	<div style="font-family: georgia\, times new roman\, times\, serif\; color: #3366cc\; font-size: 10pt\; padding-top: 10px">\n																		<font color="#333333" face="Georgia\,Times New Roman\,Times\,serif" size="2" style="font-family: georgia\, times new roman\, times\, serif\; color: #333333\; font-size: 10pt"><b><b><font color="#cc0000" style="font-size: 14pt">Saturday\, June 30.......&nbsp\; You are invited to a BBQ!</font></b></b></font></div>\n																	<div>\n																		<font color="#333333" face="Georgia\,Times New Roman\,Times\,serif" size="2" style="font-family: georgia\, times new roman\, times\, serif\; color: #333333\; font-size: 10pt">&nbsp\;</font></div>\n																	<div>\n																		<font color="#333333" face="Georgia\,Times New Roman\,Times\,serif" size="2" style="font-family: georgia\, times new roman\, times\, serif\; color: #333333\; font-size: 10pt"><font color="#000000">Support the Parade and attend this fun\, all American BBQ at&nbsp\;the Key Biscayne Beach Club from 7-11 pm. Did you know the volunteer committee has to raise over $45\,000 to hold the parade annually?&nbsp\;Support the Parade&nbsp\;and have a good meal at the same time.&nbsp\;&nbsp\;Tickets: Adults $20\, Children $10\, available from Island Athletics\, the Chamber of Commerce\, table sale outside Winn-Dixie or at the door. </font></font></div>\n																	<div>\n																		<font color="#333333" face="Georgia\,Times New Roman\,Times\,serif" size="2" style="font-family: georgia\, times new roman\, times\, serif\; color: #333333\; font-size: 10pt">&nbsp\;</font></div>\n																	<div>\n																		<font color="#333333" face="Georgia\,Times New Roman\,Times\,serif" size="2" style="font-family: georgia\, times new roman\, times\, serif\; color: #333333\; font-size: 10pt"><strong><font color="#cc0000" style="font-size: 14pt">Wednesday\, July 4th...... Independence Day</font></strong></font></div>\n																	<div>\n																		<div>\n																			<font color="#333333" face="Georgia\,Times New Roman\,Times\,serif" size="2" style="font-family: georgia\, times new roman\, times\, serif\; color: #333333\; font-size: 10pt"><font color="#000099">&nbsp\;</font></font></div>\n																	</div>\n																	<div>\n																		&nbsp\;</div>\n																	<div>\n																		<font color="#333333" face="Georgia\,Times New Roman\,Times\,serif" size="2" style="font-family: georgia\, times new roman\, times\, serif\; color: rgb(51\,51\,51)\; font-size: 10pt"><font color="#000000" style="font-size: 12pt"><strong>10:00 am</strong></font><font style="font-size: 12pt"><strong>&nbsp\; </strong><font color="#000000" style="font-size: 10pt">Southbound Crandon Blvd closed<font style="font-size: 10pt">&nbsp\;(traffic rerouted&nbsp\;to 2 way on east side) &nbsp\; &nbsp\; &nbsp\;&nbsp\;</font></font></font></font>&nbsp\;&nbsp\;&nbsp\;&nbsp\;&nbsp\;&nbsp\;&nbsp\;&nbsp\;&nbsp\;&nbsp\;&nbsp\;&nbsp\;&nbsp\;&nbsp\;&nbsp\;&nbsp\;&nbsp\;&nbsp\;&nbsp\;&nbsp\;&nbsp\;&nbsp\;&nbsp\;&nbsp\;&nbsp\;&nbsp\;&nbsp\;&nbsp\;&nbsp\;&nbsp\;&nbsp\;&nbsp\;&nbsp\;&nbsp\;&nbsp\;&nbsp\;&nbsp\;&nbsp\;&nbsp\;&nbsp\;&nbsp\;&nbsp\;&nbsp\;&nbsp\;&nbsp\;&nbsp\;&nbsp\;&nbsp\;&nbsp\;&nbsp\;&nbsp\;&nbsp\;&nbsp\;&nbsp\;&nbsp\;&nbsp\;&nbsp\;&nbsp\;&nbsp\;&nbsp\;&nbsp\;&nbsp\;&nbsp\;&nbsp\;&nbsp\;&nbsp\;&nbsp\;&nbsp\;&nbsp\;&nbsp\;&nbsp\;&nbsp\;&nbsp\;&nbsp\;&nbsp\;&nbsp\;&nbsp\;&nbsp\;&nbsp\;&nbsp\;&nbsp\;&nbsp\;&nbsp\;&nbsp\;&nbsp\;&nbsp\;&nbsp\;&nbsp\;&nbsp\;&nbsp\;&nbsp\;&nbsp\;&nbsp\;&nbsp\;&nbsp\;&nbsp\;&nbsp\;&nbsp\;&nbsp\;&nbsp\;&nbsp\;&nbsp\;&nbsp\;&nbsp\;&nbsp\;&nbsp\;&nbsp\;&nbsp\;&nbsp\;&nbsp\;&nbsp\;&nbsp\;&nbsp\;<font color="#333333" face="Georgia\,Times New Roman\,Times\,serif" size="2" style="font-family: georgia\, times new roman\, times\, serif\; color: #333333\; font-size: 10pt"><font style="font-size: 12pt"><font color="#000000" style="font-size: 10pt"><font style="font-size: 10pt">&nbsp\; &nbsp\; &nbsp\; &nbsp\;</font></font> </font></font>\n																		<div>\n																			<font color="#333333" face="Georgia\,Times New Roman\,Times\,serif" size="2" style="font-family: georgia\, times new roman\, times\, serif\; color: #333333\; font-size: 10pt"><font style="font-size: 12pt">&nbsp\;</font></font></div>\n																		<div>\n																			<font color="#333333" face="Georgia\,Times New Roman\,Times\,serif" size="2" style="font-family: georgia\, times new roman\, times\, serif\; color: #333333\; font-size: 10pt"><font style="font-size: 12pt"><font style="font-size: 14pt"><font color="#cc0000"><strong>11:00 am</strong></font>&nbsp\; <font color="#cc0000"><strong>Parade</strong></font>&nbsp\;<font style="font-size: 10pt"><font color="#000000">starts with a flyover of jets and proceeds from Harbor Drive south to Westwood Drive</font> </font></font></font></font>\n																			<div>\n																				<font color="#333333" face="Georgia\,Times New Roman\,Times\,serif" size="2" style="font-family: georgia\, times new roman\, times\, serif\; color: #333333\; font-size: 10pt"><font style="font-size: 12pt"><font style="font-size: 14pt">&nbsp\;&nbsp\;&nbsp\; </font></font></font><br />\n																				<span style="color: #b22222"><span style="font-size: 14px"><strong>Noon:</strong></span></span><span _fck_bookmark="1" style="display: none">&nbsp\;</span><span _fck_bookmark="1" style="display: none">&nbsp\;</span> <span style="font-size: 14px"><strong><font color="#333333" face="Georgia\,Times New Roman\,Times\,serif" style="font-family: georgia\, times new roman\, times\, serif\; color: #333333\; font-size: 10pt">Enjoy the <font color="#cc0000">Annual 4th July Picnic on the Village Green</font> sponsored by the Key Biscayne Kiwanis Club.</font></strong></span><br />\n																				<br />\n																				<font color="#333333" face="Georgia\,Times New Roman\,Times\,serif" size="2" style="font-family: georgia\, times new roman\, times\, serif\; color: #333333\; font-size: 10pt">&nbsp\;<font style="font-size: 14pt"><font color="#cc0000"><strong>9pm</strong></font>&nbsp\;</font><strong>&nbsp\;<font color="#cc0000" style="font-size: 14pt">Fireworks&nbsp\;</font></strong>&nbsp\;Best viewed on &nbsp\;the Beach\, as they are shot off a barge located near the KB Beach Club. The fireworks are set to music\, so if you are viewing them and have a radio\, tune into the Music&nbsp\;Broadcast on WDNA 88.9 FM</font></div>\n																		</div>\n																	</div>\n																	<div>\n																		<font color="#333333" face="Georgia\,Times New Roman\,Times\,serif" size="2" style="font-family: georgia\, times new roman\, times\, serif\; color: #333333\; font-size: 10pt">Boaters - please be aware that you are not allowed to anchor to watch the fireworks and you must remain at least 500 feet from the barge.</font></div>\n																	<div>\n																		<font color="#333333" face="Georgia\,Times New Roman\,Times\,serif" size="2" style="font-family: georgia\, times new roman\, times\, serif\; color: #333333\; font-size: 10pt">&nbsp\;</font></div>\n																	<div align="center">\n																		<font color="#333333" face="Georgia\,Times New Roman\,Times\,serif" size="2" style="font-family: georgia\, times new roman\, times\, serif\; color: #333333\; font-size: 10pt"><font face="Georgia\, Times New Roman\, Times\, serif" style="font-size: 14pt">Our thanks to the 4th July&nbsp\;Parade Committee for their dedication\, devotion\, hard work and loving care.</font></font></div>\n																</td>\n															</tr>\n														</tbody>\n													</table>\n												</td>\n											</tr>\n											<tr>\n												<td align="left" style="padding-bottom: 0px\; padding-left: 0px\; padding-right: 0px\; padding-top: 0px" valign="top" width="100%">\n													&nbsp\;</td>\n											</tr>\n										</tbody>\n									</table>\n								</td>\n							</tr>\n						</tbody>\n					</table>\n				</td>\n			</tr>\n			<tr>\n				<td align="left" height="10" width="100%">\n					&nbsp\;</td>\n			</tr>\n		</tbody>\n	</table>\n</div>\n
LOCATION:
UID:e.330.3716
SEQUENCE:3
DTSTAMP:20260420T211148Z
URL:https://business.keybiscaynechamber.org/events/details/key-biscayne-4th-of-july-parade-07-04-2012-3716
END:VEVENT

END:VCALENDAR
