BEGIN:VCALENDAR
VERSION:2.0
PRODID:-//ChamberMaster//Event Calendar 2.0//EN
METHOD:PUBLISH
X-PUBLISHED-TTL:P3D
REFRESH-INTERVAL:P3D
CALSCALE:GREGORIAN
BEGIN:VEVENT
DTSTART:20251213T230000Z
DTEND:20251214T010000Z
X-MICROSOFT-CDO-ALLDAYEVENT:FALSE
SUMMARY:KBYC Holiday Boat Parade
DESCRIPTION:Key Biscayne Yacht Club Holiday Flotilla  \n\n \n\nSet sail into the season! \n\n\nThe Key Biscayne Yacht Club invites the community to enjoy its annual Holiday Flotilla\, a sparkling parade of festively decorated boats gliding across the bay.\n\n\n\nGather with friends and neighbors along No Name Harbor\, Pines Canal\, and Hurricane Harbor\, as the island lights up with holiday cheer\, nautical magic\, and unforgettable views.\n\n\n\nA cherished Key Biscayne tradition that brings our community together in the most dazzling way!
X-ALT-DESC;FMTTYPE=text/html:<div style="text-align: center\;"><br />\n<br />\n<span style="font-size:16px\;"><strong>&#10024\; Key Biscayne Yacht Club Holiday Flotilla &#10024\;</strong></span><br />\n&nbsp\;</div>\n\n<div style="text-align: center\;"><span style="font-family:comic sans ms\;"><span style="font-size:16px\;">Set sail into the season!</span> </span></div>\n<br />\n<span style="font-family:comic sans ms\;">The Key Biscayne Yacht Club invites the community to enjoy its annual Holiday Flotilla\, a sparkling parade of festively decorated boats gliding across the bay.<br />\n<br />\nGather with friends and neighbors along No Name Harbor\, Pines Canal\, and Hurricane Harbor\, as the island lights up with holiday cheer\, nautical magic\, and unforgettable views.<br />\n<br />\nA cherished Key Biscayne tradition that brings our community together in the most dazzling way!</span><br />\n&nbsp\;
LOCATION:Bill Baggs Cape Florida State Park Boater's Grill
UID:e.330.23277
SEQUENCE:3
DTSTAMP:20260424T151346Z
URL:https://business.keybiscaynechamber.org/events/details/kbyc-holiday-boat-parade-23277
END:VEVENT

END:VCALENDAR
